BEGIN:VCALENDAR
VERSION:2.0
PRODID:-//Mairie de Proville - ECPv6.15.20//NONSGML v1.0//EN
CALSCALE:GREGORIAN
METHOD:PUBLISH
X-WR-CALNAME:Mairie de Proville
X-ORIGINAL-URL:https://proville.fr
X-WR-CALDESC:Évènements pour Mairie de Proville
REFRESH-INTERVAL;VALUE=DURATION:PT1H
X-Robots-Tag:noindex
X-PUBLISHED-TTL:PT1H
BEGIN:VTIMEZONE
TZID:Europe/Paris
BEGIN:DAYLIGHT
TZOFFSETFROM:+0100
TZOFFSETTO:+0200
TZNAME:CEST
DTSTART:20250330T010000
END:DAYLIGHT
BEGIN:STANDARD
TZOFFSETFROM:+0200
TZOFFSETTO:+0100
TZNAME:CET
DTSTART:20251026T010000
END:STANDARD
BEGIN:DAYLIGHT
TZOFFSETFROM:+0100
TZOFFSETTO:+0200
TZNAME:CEST
DTSTART:20260329T010000
END:DAYLIGHT
BEGIN:STANDARD
TZOFFSETFROM:+0200
TZOFFSETTO:+0100
TZNAME:CET
DTSTART:20261025T010000
END:STANDARD
BEGIN:DAYLIGHT
TZOFFSETFROM:+0100
TZOFFSETTO:+0200
TZNAME:CEST
DTSTART:20270328T010000
END:DAYLIGHT
BEGIN:STANDARD
TZOFFSETFROM:+0200
TZOFFSETTO:+0100
TZNAME:CET
DTSTART:20271031T010000
END:STANDARD
END:VTIMEZONE
BEGIN:VEVENT
DTSTART;TZID=Europe/Paris:20260401T103000
DTEND;TZID=Europe/Paris:20260425T190000
DTSTAMP:20260421T095045
CREATED:20260331T070532Z
LAST-MODIFIED:20260331T073014Z
UID:16090-1775039400-1777143600@proville.fr
SUMMARY:MicroAtelier : le programme d'avril
DESCRIPTION:Actualités\n\n			\n				\n				\n				\n				\n				\n				\n				\n					Toutes les actualités\nVie quotidienne\nSocial – Santé – Sécurité\nVie démocratique\nAdministration\nCulture et divertissement 2026\n\n				\n			\n			\n				\n				\n				\n				\n			\n				\n				\n				\n				\n				\n				\n				\n				\n				\n				\n				Actus de l'agglo\n			\n				\n				\n				\n				\n				\n			\n			\n				\n				\n				\n				\n			\n				\n				\n			 \n\n			\n			\n				\n				\n				\n				\n				\n				\n				\n				\n				\n				\n				\n				\n				\n				\n				\n				\n				\n					Jeux de société autour de la nature\n				\n				\n			\n			\n				\n				\n				\n				\n			\n				\n				\n				\n				\n				\n				\n				\n				\n				\n				\n				Le MicroAtelier\, situé à l’étage de la médiathèque\,propose de plusieurs rendez-vous pour petits et grands en ce mois d’avril.Consultez le programme ci-dessous. \nPour réserver\, appelez la médiathèque au 03 27 70 74 87 ou envoyez un mail à mediatheque@proville.fr \nRappel : vous souhaitez réparer un objet\, un vêtement qui vous tient à cœur ?Les machines et outils du MicroAtelier peuvent vous apporter une solution éco-responsable.Prenez rendez-vous avec Vicky\, qui vous accompagnera dans l’utilisation des machines ; elle est présente les mercredi et samedi de 10h à 12h et de 14h à 18het le vendredi de 15h à 19h.  
URL:https://proville.fr/event/microatelier-le-programme-de-novembre/
CATEGORIES:Culture et divertissement
ATTACH;FMTTYPE=image/jpeg:https://proville.fr/wp-content/uploads/2026/03/MAT-AVRIL.jpg
END:VEVENT
BEGIN:VEVENT
DTSTART;TZID=Europe/Paris:20260404T110000
DTEND;TZID=Europe/Paris:20260428T170000
DTSTAMP:20260421T095045
CREATED:20260324T133054Z
LAST-MODIFIED:20260324T133054Z
UID:24021-1775300400-1777395600@proville.fr
SUMMARY:Exposition Popok
DESCRIPTION:Actualités\n\n			\n				\n				\n				\n				\n				\n				\n				\n					Toutes les actualités\nVie quotidienne\nSocial – Santé – Sécurité\nVie démocratique\nAdministration\nCulture et divertissement 2026\n\n				\n			\n			\n				\n				\n				\n				\n			\n				\n				\n				\n				\n				\n				\n				\n				\n				\n				\n				Actus de l'agglo\n			\n				\n				\n				\n				\n				\n			\n			\n				\n				\n				\n				\n			\n				\n				\n			 \n\n			\n			\n				\n				\n				\n				\n				\n				\n				\n				\n				\n				\n				\n				\n				\n				\n				\n				\n				\n					Jeux de société autour de la nature\n				\n				\n			\n			\n				\n				\n				\n				\n			\n				\n				\n				\n				\n				\n				\n				\n				\n				\n				\n				Du 4 au 28 avril\, venez découvrir la nouvelle exposition visible aux heures d’ouverture de la mairie. Popok\, un artiste aux multiples talents\, y prend ses quartiers dans la salle des cérémonies pour vous emmener dans son univers singulier à travers ses dessins et peintures. \nLe vernissage aura lieu samedi 4 avril à 11h. \n  \nPopok a toujours été habité par l’envie de créer. Dès son enfance\, le dessin occupe une place centrale dans sa vie\, comme une évidence. À seulement 15 ans\, il est admis aux Beaux-Arts de Cambrai où il passe quatre années à affiner son talent et il y décroche un diplôme avec mentions. Mais l’enseignement ne le séduit pas et il se lance alors dans une carrière de dessinateur en broderie\, un métier qu’il exerce pendant six ans avant de prendre un virage radical.Fasciné par la scène\, il intègre l’Américan Center de Paris pour étudier le théâtre\, discipline dans laquelle il brillera pendant plus de trente ans. Metteur en scène\, auteur\, et professeur\, il est toujours porté par une passion inaltérable pour les histoires. En 2012\, Popok tourne une nouvelle page. Il renoue avec ses premiers amours : le dessin\, la peinture\, et la photographie\, qu’il enrichit par sa pratique du photomontage. Avec humour\, il se décrit comme un « tricheur photo »\, car\, pour lui\, l’image manipulée n’est jamais une simple fin en soi mais une ouverture vers l’imaginaire. Quel que soit le médium\, théâtre\, dessin\, peinture\, ou photomontage\, Popok poursuit une quête constante : faire naître des récits. Là où le théâtre racontait directement\, ses créations visuelles suggèrent et invitent. Chaque image devient une porte ouverte vers une histoire à deviner\, un univers à interpréter.Et à travers son art\, c’est toujours la magie du conte qu’il continue de transmettre.
URL:https://proville.fr/event/exposition-popok/
CATEGORIES:Culture et divertissement
ATTACH;FMTTYPE=image/jpeg:https://proville.fr/wp-content/uploads/2026/03/expo-popok.jpg
END:VEVENT
BEGIN:VEVENT
DTSTART;TZID=Europe/Paris:20260423T143000
DTEND;TZID=Europe/Paris:20260423T170000
DTSTAMP:20260421T095045
CREATED:20260331T065554Z
LAST-MODIFIED:20260331T074638Z
UID:15828-1776954600-1776963600@proville.fr
SUMMARY:Atelier scrapbooking adultes
DESCRIPTION:Actualités\n\n			\n				\n				\n				\n				\n				\n				\n				\n					Toutes les actualités\nVie quotidienne\nSocial – Santé – Sécurité\nVie démocratique\nAdministration\nCulture et divertissement 2026\n\n				\n			\n			\n				\n				\n				\n				\n			\n				\n				\n				\n				\n				\n				\n				\n				\n				\n				\n				Actus de l'agglo\n			\n				\n				\n				\n				\n				\n			\n			\n				\n				\n				\n				\n			\n				\n				\n			 \n\n			\n			\n				\n				\n				\n				\n				\n				\n				\n				\n				\n				\n				\n				\n				\n				\n				\n				\n				\n					Jeux de société autour de la nature\n				\n				\n			\n			\n				\n				\n				\n				\n			\n				\n				\n				\n				\n				\n				\n				\n				\n				\n				\n				Marie-Céline et Odile proposent un atelier créatif / scrapbooking pour adultes à la médiathèque jeudi 23 avril de 14h30 à 17h. \nAlors\, à vos ciseaux\, feutres\, tampons… et n’oubliez pas votre bonne humeur ! \n*Merci d’apporter votre papier\, colle et crayon de bois. \nAtelier gratuit. Renseignements – inscriptions : 03 27 70 74 87
URL:https://proville.fr/event/atelier-creatif-adultes/
CATEGORIES:Culture et divertissement
ATTACH;FMTTYPE=image/jpeg:https://proville.fr/wp-content/uploads/2023/11/atelier-adultes-scrap-noel.jpg
END:VEVENT
END:VCALENDAR